BEGIN:VCALENDAR
VERSION:2.0
PRODID:-//RCCG Hope Chapel Manchester&lt; United Kingdom. - ECPv6.15.18//NONSGML v1.0//EN
CALSCALE:GREGORIAN
METHOD:PUBLISH
X-WR-CALNAME:RCCG Hope Chapel Manchester&lt; United Kingdom.
X-ORIGINAL-URL:https://rccghopechapel.org.uk
X-WR-CALDESC:Events for RCCG Hope Chapel Manchester&lt; United Kingdom.
REFRESH-INTERVAL;VALUE=DURATION:PT1H
X-Robots-Tag:noindex
X-PUBLISHED-TTL:PT1H
BEGIN:VTIMEZONE
TZID:UTC
BEGIN:STANDARD
TZOFFSETFROM:+0000
TZOFFSETTO:+0000
TZNAME:UTC
DTSTART:20140101T000000
END:STANDARD
END:VTIMEZONE
BEGIN:VEVENT
DTSTART;TZID=UTC:20250309T103000
DTEND;TZID=UTC:20250309T120000
DTSTAMP:20260425T035503
CREATED:20250206T124013Z
LAST-MODIFIED:20250206T124013Z
UID:6012-1741516200-1741521600@rccghopechapel.org.uk
SUMMARY:Bake Sale
DESCRIPTION:BAKE SALE\nThe Chosen Generation Teens \nCome grab some delicious snacks and help up raise funds for a new Church building. \nDate: Sunday 9th March 2025\nTime: 10:30 am\nVenue: 958-960 Stockport Road\, Manchester. M19 3NN\nPhone: 01614787852\, 07960734132
URL:https://rccghopechapel.org.uk/event/bake-sale/
LOCATION:Hope Chapel Church\, 958/960 Stockport Road\, (Entrance on the right)\, farm Yard Close\, Levenshulme Manchester M19 3NN\, Manchester\, Levenshulme\, M19 3NN\, United Kingdom
CATEGORIES:Special Programme
ATTACH;FMTTYPE=image/jpeg:https://rccghopechapel.org.uk/June2023/wp-content/uploads/2025/02/rccghopeteen.jpeg
END:VEVENT
BEGIN:VEVENT
DTSTART;TZID=UTC:20250308T170000
DTEND;TZID=UTC:20250309T100000
DTSTAMP:20260425T035503
CREATED:20250204T124925Z
LAST-MODIFIED:20250204T131317Z
UID:5806-1741453200-1741514400@rccghopechapel.org.uk
SUMMARY:Glory Conference 2025
DESCRIPTION:Date: Saturday 8th march 2025 by 5pm\nSunday 9th march 2025 by 10am\nLocation: 958-960 Stockport Road\, Manchester. M19 3NN\nMinistering: Rev. Yemi Adedeji (Guest Speaker)\, Pastor Austin & Lara John (HOST) \nCall: 01614787852\, 07960734132
URL:https://rccghopechapel.org.uk/event/glory-conference-2025/
LOCATION:Hope Chapel Church\, 958/960 Stockport Road\, (Entrance on the right)\, farm Yard Close\, Levenshulme Manchester M19 3NN\, Manchester\, Levenshulme\, M19 3NN\, United Kingdom
CATEGORIES:Special Programme
ATTACH;FMTTYPE=image/jpeg:https://rccghopechapel.org.uk/June2023/wp-content/uploads/2025/02/rccg-hope-glory-conf.2025.jpeg
END:VEVENT
BEGIN:VEVENT
DTSTART;TZID=UTC:20250223T103000
DTEND;TZID=UTC:20250223T120000
DTSTAMP:20260425T035503
CREATED:20250206T121608Z
LAST-MODIFIED:20250206T123024Z
UID:5985-1740306600-1740312000@rccghopechapel.org.uk
SUMMARY:Prayer Conference
DESCRIPTION:Prayer Conference\nThe Chosen Generation Teens \nTheme: Teach us to pray Lord (Luke 11:1-13)\nDate: Sunday 23rd February 2025\nTime: 10:30 am\nVenue: 958-960 Stockport Road\, Manchester. M19 3NN\nPhone: 01614787852\, 07960734132
URL:https://rccghopechapel.org.uk/event/prayer-conference/
LOCATION:Hope Chapel Church\, 958/960 Stockport Road\, (Entrance on the right)\, farm Yard Close\, Levenshulme Manchester M19 3NN\, Manchester\, Levenshulme\, M19 3NN\, United Kingdom
CATEGORIES:Special Programme
ATTACH;FMTTYPE=image/jpeg:https://rccghopechapel.org.uk/June2023/wp-content/uploads/2025/02/rccghopeprayerconf.jpeg
END:VEVENT
BEGIN:VEVENT
DTSTART;TZID=UTC:20250216T090000
DTEND;TZID=UTC:20250216T110000
DTSTAMP:20260425T035503
CREATED:20250206T115531Z
LAST-MODIFIED:20250206T115531Z
UID:5982-1739696400-1739703600@rccghopechapel.org.uk
SUMMARY:Intimacy in Marriage (Valentine Special)
DESCRIPTION:Intimacy in Marriage (Valentine Special)\nWelfare/Evangelism \nDate: Sunday 16th February 2025\nTime: 9:00 am\nVenue: 958-960 Stockport Road\, Manchester. M19 3NN\nPhone: 01614787852\, 07960734132
URL:https://rccghopechapel.org.uk/event/intimacy-in-marriage-valentine-special/
LOCATION:Hope Chapel Church\, 958/960 Stockport Road\, (Entrance on the right)\, farm Yard Close\, Levenshulme Manchester M19 3NN\, Manchester\, Levenshulme\, M19 3NN\, United Kingdom
CATEGORIES:Special Programme
ATTACH;FMTTYPE=image/jpeg:https://rccghopechapel.org.uk/June2023/wp-content/uploads/2025/02/rccghopemarriage.jpeg
END:VEVENT
BEGIN:VEVENT
DTSTART;TZID=UTC:20250118T190000
DTEND;TZID=UTC:20250118T200000
DTSTAMP:20260425T035503
CREATED:20250206T113700Z
LAST-MODIFIED:20250206T113700Z
UID:5976-1737226800-1737230400@rccghopechapel.org.uk
SUMMARY:Destiny Job Exposition 4.0
DESCRIPTION:Destiny Job Exposition 4.0\nFeaturing Topics: \n1. Setting up a business for self-sponsorship\n2. Securing an NHS job offer \nDate: Saturday 18th January 2025\nTime: 7:00 pm\nOnline Via Zoom ID: 4253348974
URL:https://rccghopechapel.org.uk/event/destiny-job-exposition-4-0/
LOCATION:Hope Chapel Church\, 958/960 Stockport Road\, (Entrance on the right)\, farm Yard Close\, Levenshulme Manchester M19 3NN\, Manchester\, Levenshulme\, M19 3NN\, United Kingdom
CATEGORIES:Special Programme
ATTACH;FMTTYPE=image/jpeg:https://rccghopechapel.org.uk/June2023/wp-content/uploads/2025/02/Destiny-Job-Exposition-4.0.jpeg
END:VEVENT
BEGIN:VEVENT
DTSTART;TZID=UTC:20250118T130000
DTEND;TZID=UTC:20250118T150000
DTSTAMP:20260425T035503
CREATED:20250206T114509Z
LAST-MODIFIED:20250206T114652Z
UID:5979-1737205200-1737212400@rccghopechapel.org.uk
SUMMARY:Light Up Manchester
DESCRIPTION:Welfare/Evangelism \nDate: Saturday 18th January 2025\nTime: 1:00 pm\nVenue: Manchester City Centre\nPhone: 01614787852\, 07960734132
URL:https://rccghopechapel.org.uk/event/light-up-manchester/
LOCATION:Hope Chapel Church\, 958/960 Stockport Road\, (Entrance on the right)\, farm Yard Close\, Levenshulme Manchester M19 3NN\, Manchester\, Levenshulme\, M19 3NN\, United Kingdom
CATEGORIES:Special Programme
ATTACH;FMTTYPE=image/jpeg:https://rccghopechapel.org.uk/June2023/wp-content/uploads/2025/02/Light-Up-Manchester.jpeg
END:VEVENT
BEGIN:VEVENT
DTSTART;TZID=UTC:20240418T100000
DTEND;TZID=UTC:20240420T160000
DTSTAMP:20260425T035503
CREATED:20240414T101524Z
LAST-MODIFIED:20240414T111800Z
UID:5685-1713434400-1713628800@rccghopechapel.org.uk
SUMMARY:RCCG ORDAINED MINISTERS CONFERENCE
DESCRIPTION:The Ordained Ministers’ Conference (OMC) is the annual spiritual retreat for all ministers in the Redeemed Christian Church of God (RCCG) in the United Kingdom (UK).\nSince the announcement of the new continent structure of United Kingdom\, Europe and Republic of Ireland\, the OMC after three years is now taking place as a Continental Ordained Minsters Conference. \n\n\n\n\n\n\n\n\nDuring this period\, ministers withdraw from their regular schedules for a time of worship and devotion to the Lord.\nThe conference is thus marked by personal and collective reflection on the call to God’s service\, as ministers pursue greater consecration through meditation on the Holy Scriptures and fervent prayer. \n\n\n\n\n\n\n\n\nDelegates to the Continental OMC receive tremendous blessing from the Word of God through inspired teaching and mentorship\nfrom the General Overseer of the RCCG\, Pastor E. A. Adeboye and other senior leaders of the church. To the glory of God\, ministers always emerge from these meetings spiritually refreshed and strengthened in their faith\, service and commitment to the Lord Jesus Christ. The conference is also a welcome opportunity for the deepening of existing relationships and cultivation of new friendships in the bond of peace.
URL:https://rccghopechapel.org.uk/event/rccg-ordained-ministers-conference/
LOCATION:Hope Chapel Church\, 958/960 Stockport Road\, (Entrance on the right)\, farm Yard Close\, Levenshulme Manchester M19 3NN\, Manchester\, Levenshulme\, M19 3NN\, United Kingdom
CATEGORIES:Special Programme
ATTACH;FMTTYPE=image/jpeg:https://rccghopechapel.org.uk/June2023/wp-content/uploads/2024/04/ordained-ministers-conference-2024.jpg
END:VEVENT
BEGIN:VEVENT
DTSTART;TZID=UTC:20231019T140000
DTEND;TZID=UTC:20231021T110000
DTSTAMP:20260425T035503
CREATED:20240416T163840Z
LAST-MODIFIED:20240416T164009Z
UID:5699-1697724000-1697886000@rccghopechapel.org.uk
SUMMARY:Women of Hope Weekend Away Retreat
DESCRIPTION:
URL:https://rccghopechapel.org.uk/event/women-of-hope-weekend-away-retreat/
LOCATION:Yarnfield Park Stafforshire\, Yarnfield Park Stafforshire\, Staffordshire\, ST15 0NL\, United Kingdom
CATEGORIES:Special Programme
ATTACH;FMTTYPE=image/jpeg:https://rccghopechapel.org.uk/June2023/wp-content/uploads/2024/04/WhatsApp-Image-2024-04-14-at-12.31.19.jpeg
END:VEVENT
BEGIN:VEVENT
DTSTART;TZID=UTC:20231014T120000
DTEND;TZID=UTC:20231014T153000
DTSTAMP:20260425T035503
CREATED:20230806T151931Z
LAST-MODIFIED:20230806T151931Z
UID:4743-1697284800-1697297400@rccghopechapel.org.uk
SUMMARY:Annual Women Conference 2023
DESCRIPTION:
URL:https://rccghopechapel.org.uk/event/annual-women-conference-2023/
LOCATION:Hope Chapel Church\, 958/960 Stockport Road\, (Entrance on the right)\, farm Yard Close\, Levenshulme Manchester M19 3NN\, Manchester\, Levenshulme\, M19 3NN\, United Kingdom
CATEGORIES:Special Programme
ATTACH;FMTTYPE=image/jpeg:https://rccghopechapel.org.uk/June2023/wp-content/uploads/2023/08/Women-of-hope-Conf-2023-1.jpg
END:VEVENT
BEGIN:VEVENT
DTSTART;TZID=UTC:20230820T103000
DTEND;TZID=UTC:20230820T123000
DTSTAMP:20260425T035503
CREATED:20230806T150621Z
LAST-MODIFIED:20230806T150621Z
UID:4737-1692527400-1692534600@rccghopechapel.org.uk
SUMMARY:Teen Sunday
DESCRIPTION:
URL:https://rccghopechapel.org.uk/event/teen-sunday/
LOCATION:Hope Chapel Church\, 958/960 Stockport Road\, (Entrance on the right)\, farm Yard Close\, Levenshulme Manchester M19 3NN\, Manchester\, Levenshulme\, M19 3NN\, United Kingdom
CATEGORIES:Special Programme
ATTACH;FMTTYPE=image/jpeg:https://rccghopechapel.org.uk/June2023/wp-content/uploads/2023/08/teens-Sunday.jpg
END:VEVENT
BEGIN:VEVENT
DTSTART;TZID=UTC:20230806T080000
DTEND;TZID=UTC:20230806T170000
DTSTAMP:20260425T035503
CREATED:20230806T152733Z
LAST-MODIFIED:20230806T153748Z
UID:4747-1691308800-1691341200@rccghopechapel.org.uk
SUMMARY:House Fellowship Awareness Sunday
DESCRIPTION:
URL:https://rccghopechapel.org.uk/event/house-fellowship-awareness-sunday/
LOCATION:Hope Chapel Church\, 958/960 Stockport Road\, (Entrance on the right)\, farm Yard Close\, Levenshulme Manchester M19 3NN\, Manchester\, Levenshulme\, M19 3NN\, United Kingdom
CATEGORIES:Special Programme
ATTACH;FMTTYPE=image/jpeg:https://rccghopechapel.org.uk/June2023/wp-content/uploads/2023/08/Hoise-fellowship.jpg
END:VEVENT
BEGIN:VEVENT
DTSTART;TZID=UTC:20151211T180000
DTEND;TZID=UTC:20151211T200000
DTSTAMP:20260425T035503
CREATED:20230806T124139Z
LAST-MODIFIED:20230806T124139Z
UID:4733-1449856800-1449864000@rccghopechapel.org.uk
SUMMARY:Praise Night
DESCRIPTION:
URL:https://rccghopechapel.org.uk/event/praise-night/
LOCATION:Hope Chapel Church\, 958/960 Stockport Road\, (Entrance on the right)\, farm Yard Close\, Levenshulme Manchester M19 3NN\, Manchester\, Levenshulme\, M19 3NN\, United Kingdom
CATEGORIES:Special Programme
ATTACH;FMTTYPE=image/png:https://rccghopechapel.org.uk/June2023/wp-content/uploads/2023/08/PRAISE-NIGHT.png
END:VEVENT
BEGIN:VEVENT
DTSTART;TZID=UTC:20150927T100000
DTEND;TZID=UTC:20150927T123000
DTSTAMP:20260425T035503
CREATED:20230806T115002Z
LAST-MODIFIED:20230806T120555Z
UID:4709-1443348000-1443357000@rccghopechapel.org.uk
SUMMARY:Where to Begin...
DESCRIPTION:
URL:https://rccghopechapel.org.uk/event/where-to-begin/
LOCATION:Hope Chapel Church\, 958/960 Stockport Road\, (Entrance on the right)\, farm Yard Close\, Levenshulme Manchester M19 3NN\, Manchester\, Levenshulme\, M19 3NN\, United Kingdom
CATEGORIES:Special Programme
ATTACH;FMTTYPE=image/png:https://rccghopechapel.org.uk/June2023/wp-content/uploads/2015/09/begin.png
ORGANIZER;CN="RCCG Hope Chapel%2C Manchester":MAILTO:info@rccghopechapel.org.uk
END:VEVENT
END:VCALENDAR